BEGIN:VCALENDAR
VERSION:2.0
PRODID:icalendar-ruby
CALSCALE:GREGORIAN
METHOD:PUBLISH
BEGIN:VEVENT
DTSTAMP:20260423T080415Z
UID:8-1877382@pgbcardmore.org
DTSTART:20260920T131500Z
DTEND:20260920T141500Z
CLASS:PUBLIC
CREATED:20260422T210153
DESCRIPTION:Awaken
LAST-MODIFIED:20260422T210153
LOCATION:
SUMMARY:Awaken
URL;VALUE=URI:https://www.pgbcardmore.org/events/awaken/2026-09-20
ATTACH;FILENAME=Awaken.png;FMTTYPE=image/png:https://dq5pwpg1q8ru0.cloudfro
 nt.net/2022/03/24/07/48/12/ec7f55c8-30d0-489b-8d84-a76683cd49f2/Awaken.png
END:VEVENT
END:VCALENDAR
