BEGIN:VCALENDAR
VERSION:2.0
PRODID:icalendar-ruby
CALSCALE:GREGORIAN
METHOD:PUBLISH
BEGIN:VEVENT
DTSTAMP:20260423T132832Z
UID:8-1878535@pgbcardmore.org
DTSTART:20261018T131500Z
DTEND:20261018T141500Z
CLASS:PUBLIC
CREATED:20260423T063131
DESCRIPTION:Awaken
LAST-MODIFIED:20260423T063131
LOCATION:
SUMMARY:Awaken
URL;VALUE=URI:https://www.pgbcardmore.org/events/awaken/2026-10-18
ATTACH;FILENAME=Awaken.png;FMTTYPE=image/png:https://dq5pwpg1q8ru0.cloudfro
 nt.net/2022/03/24/07/48/12/ec7f55c8-30d0-489b-8d84-a76683cd49f2/Awaken.png
END:VEVENT
END:VCALENDAR
